BEGIN:VCALENDAR
VERSION:2.0
PRODID:-//eventon.com NONSGML v1.0//EN
CALSCALE:GREGORIAN
METHOD:PUBLISH
BEGIN:VEVENT
UID:69e9eeeb9a592
DTSTAMP:20260423T100531Z
DTSTART:20260821T225600Z
DTEND:20260821T225600Z
LOCATION:
SUMMARY:2026 In and Out Showdown at CBRC
DESCRIPTION:\nhttps://club509pickleball.com/events/2026-in-and-out-showdown
 -at-cbrc/
URL:https://club509pickleball.com/events/2026-in-and-out-showdown-at-cbrc/
END:VEVENT
END:VCALENDAR